BEGIN:VCALENDAR
VERSION:2.0
PRODID:-//South Carolina Catholic Cursillo - ECPv6.15.17//NONSGML v1.0//EN
CALSCALE:GREGORIAN
METHOD:PUBLISH
X-WR-CALNAME:South Carolina Catholic Cursillo
X-ORIGINAL-URL:https://sccatholiccursillo.com
X-WR-CALDESC:Events for South Carolina Catholic Cursillo
REFRESH-INTERVAL;VALUE=DURATION:PT1H
X-Robots-Tag:noindex
X-PUBLISHED-TTL:PT1H
BEGIN:VTIMEZONE
TZID:America/New_York
BEGIN:DAYLIGHT
TZOFFSETFROM:-0500
TZOFFSETTO:-0400
TZNAME:EDT
DTSTART:20250309T070000
END:DAYLIGHT
BEGIN:STANDARD
TZOFFSETFROM:-0400
TZOFFSETTO:-0500
TZNAME:EST
DTSTART:20251102T060000
END:STANDARD
BEGIN:DAYLIGHT
TZOFFSETFROM:-0500
TZOFFSETTO:-0400
TZNAME:EDT
DTSTART:20260308T070000
END:DAYLIGHT
BEGIN:STANDARD
TZOFFSETFROM:-0400
TZOFFSETTO:-0500
TZNAME:EST
DTSTART:20261101T060000
END:STANDARD
BEGIN:DAYLIGHT
TZOFFSETFROM:-0500
TZOFFSETTO:-0400
TZNAME:EDT
DTSTART:20270314T070000
END:DAYLIGHT
BEGIN:STANDARD
TZOFFSETFROM:-0400
TZOFFSETTO:-0500
TZNAME:EST
DTSTART:20271107T060000
END:STANDARD
END:VTIMEZONE
BEGIN:VEVENT
DTSTART;TZID=America/New_York:20260626T093000
DTEND;TZID=America/New_York:20260626T120000
DTSTAMP:20260422T193616
CREATED:20251021T190833Z
LAST-MODIFIED:20251021T190833Z
UID:1579-1782466200-1782475200@sccatholiccursillo.com
SUMMARY:Multi Deanery School of Leaders
DESCRIPTION:Join us for the statewide School of Leaders either in person or via Zoom. Check your email\, from SC Catholic Cursillo\, for Zoom link and meeting details.
URL:https://sccatholiccursillo.com/event/multi-deanery-school-of-leaders-15/
LOCATION:Our Lady of the Hills Catholic Church\, 120 Marydale Ln\, Columbia\, SC\, United States
CATEGORIES:School of Leaders
ORGANIZER;CN="SC Catholic Cursillo":MAILTO:sccursillo2911@gmail.com
END:VEVENT
END:VCALENDAR